BEGIN:VCALENDAR
VERSION:2.0
PRODID:-//Bleu Cohésion - ECPv4.8.1//NONSGML v1.0//EN
CALSCALE:GREGORIAN
METHOD:PUBLISH
X-WR-CALNAME:Bleu Cohésion
X-ORIGINAL-URL:http://bleu-cohesion.fr
X-WR-CALDESC:Events for Bleu Cohésion
BEGIN:VEVENT
DTSTART;TZID=Europe/Paris:20241213T190000
DTEND;TZID=Europe/Paris:20241213T210000
DTSTAMP:20260424T085043
CREATED:20241123T205828Z
LAST-MODIFIED:20241123T210215Z
UID:5952-1734105600-1734112800@bleu-cohesion.fr
SUMMARY:AG Ligue Para
DESCRIPTION:
URL:http://bleu-cohesion.fr/event/ag-ligue-para/
END:VEVENT
END:VCALENDAR