BEGIN:VCALENDAR
VERSION:2.0
PRODID:-//Bleu Cohésion - ECPv4.8.1//NONSGML v1.0//EN
CALSCALE:GREGORIAN
METHOD:PUBLISH
X-WR-CALNAME:Bleu Cohésion
X-ORIGINAL-URL:http://bleu-cohesion.fr
X-WR-CALDESC:Events for Bleu Cohésion
BEGIN:VEVENT
DTSTART;VALUE=DATE:20230909
DTEND;VALUE=DATE:20230911
DTSTAMP:20260422T165751
CREATED:20230621T000049Z
LAST-MODIFIED:20230621T000049Z
UID:5596-1694206800-1694379599@bleu-cohesion.fr
SUMMARY:AKDémie Espoir
DESCRIPTION:
URL:http://bleu-cohesion.fr/event/akdemie-espoir-10/
END:VEVENT
END:VCALENDAR