BEGIN:VCALENDAR
VERSION:2.0
PRODID:-//Bleu Cohésion - ECPv4.8.1//NONSGML v1.0//EN
CALSCALE:GREGORIAN
METHOD:PUBLISH
X-WR-CALNAME:Bleu Cohésion
X-ORIGINAL-URL:http://bleu-cohesion.fr
X-WR-CALDESC:Events for Bleu Cohésion
BEGIN:VEVENT
DTSTART;TZID=Europe/Paris:20230807T173000
DTEND;TZID=Europe/Paris:20230807T190000
DTSTAMP:20260423T010516
CREATED:20230805T185818Z
LAST-MODIFIED:20230805T185818Z
UID:5671-1691418600-1691424000@bleu-cohesion.fr
SUMMARY:Escalade en salle de bloc
DESCRIPTION:
URL:http://bleu-cohesion.fr/event/escalade-en-salle-de-bloc-3/
END:VEVENT
END:VCALENDAR