BEGIN:VCALENDAR
VERSION:2.0
PRODID:-//Bleu Cohésion - ECPv4.8.1//NONSGML v1.0//EN
CALSCALE:GREGORIAN
METHOD:PUBLISH
X-WR-CALNAME:Bleu Cohésion
X-ORIGINAL-URL:http://bleu-cohesion.fr
X-WR-CALDESC:Events for Bleu Cohésion
BEGIN:VEVENT
DTSTART;TZID=Europe/Paris:20180724T190000
DTEND;TZID=Europe/Paris:20180724T230000
DTSTAMP:20260424T012118
CREATED:20180709T181752Z
LAST-MODIFIED:20180717T222839Z
UID:3597-1532448000-1532462400@bleu-cohesion.fr
SUMMARY:Escalade (salle de bloc)
DESCRIPTION:Séance d’escalade indoor à la salle de bloc (mur de 4m sans assurage) à Vertical Art (Montigny le Bretonneux) \n
URL:http://bleu-cohesion.fr/event/escalade-salle-de-bloc-4/
END:VEVENT
END:VCALENDAR