BEGIN:VCALENDAR
VERSION:2.0
PRODID:-//Bleu Cohésion - ECPv4.8.1//NONSGML v1.0//EN
CALSCALE:GREGORIAN
METHOD:PUBLISH
X-WR-CALNAME:Bleu Cohésion
X-ORIGINAL-URL:http://bleu-cohesion.fr
X-WR-CALDESC:Events for Bleu Cohésion
BEGIN:VEVENT
DTSTART;TZID=Europe/Paris:20180908T100000
DTEND;TZID=Europe/Paris:20180908T180000
DTSTAMP:20260423T015400
CREATED:20180717T224557Z
LAST-MODIFIED:20180717T224959Z
UID:3633-1536390000-1536418800@bleu-cohesion.fr
SUMMARY:Forum des associations à Chaville
DESCRIPTION:
URL:http://bleu-cohesion.fr/event/forum-des-associations/
END:VEVENT
END:VCALENDAR