BEGIN:VCALENDAR
VERSION:2.0
PRODID:-//Bleu Cohésion - ECPv4.8.1//NONSGML v1.0//EN
CALSCALE:GREGORIAN
METHOD:PUBLISH
X-WR-CALNAME:Bleu Cohésion
X-ORIGINAL-URL:http://bleu-cohesion.fr
X-WR-CALDESC:Events for Bleu Cohésion
BEGIN:VEVENT
DTSTART;VALUE=DATE:20180928
DTEND;VALUE=DATE:20181001
DTSTAMP:20260422T125004
CREATED:20180922T022923Z
LAST-MODIFIED:20180922T022923Z
UID:3919-1538082000-1538341199@bleu-cohesion.fr
SUMMARY:Plongée à Port-Vendres
DESCRIPTION:
URL:http://bleu-cohesion.fr/event/plongee-a-port-vendres-2/
END:VEVENT
END:VCALENDAR