BEGIN:VCALENDAR
VERSION:2.0
PRODID:-//Bleu Cohésion - ECPv4.8.1//NONSGML v1.0//EN
CALSCALE:GREGORIAN
METHOD:PUBLISH
X-WR-CALNAME:Bleu Cohésion
X-ORIGINAL-URL:http://bleu-cohesion.fr
X-WR-CALDESC:Events for Bleu Cohésion
BEGIN:VEVENT
DTSTART;VALUE=DATE:20231108
DTEND;VALUE=DATE:20231109
DTSTAMP:20260425T194117
CREATED:20230802T195701Z
LAST-MODIFIED:20230802T195701Z
UID:5632-1699390800-1699477199@bleu-cohesion.fr
SUMMARY:Plongée à Sète
DESCRIPTION:
URL:http://bleu-cohesion.fr/event/plongee-a-sete-6/
END:VEVENT
END:VCALENDAR