BEGIN:VCALENDAR
VERSION:2.0
PRODID:-//Bleu Cohésion - ECPv4.8.1//NONSGML v1.0//EN
CALSCALE:GREGORIAN
METHOD:PUBLISH
X-WR-CALNAME:Bleu Cohésion
X-ORIGINAL-URL:http://bleu-cohesion.fr
X-WR-CALDESC:Events for Bleu Cohésion
BEGIN:VEVENT
DTSTART;VALUE=DATE:20180728
DTEND;VALUE=DATE:20180730
DTSTAMP:20260423T225154
CREATED:20180716T014524Z
LAST-MODIFIED:20180716T014524Z
UID:3609-1532725200-1532897999@bleu-cohesion.fr
SUMMARY:Plongée au lac de Pannecière
DESCRIPTION:– 28 et 29 juillet: formation tous niveaux\,stage initial initiateur\n
URL:http://bleu-cohesion.fr/event/plongee-au-lac-de-panneciere-2/
END:VEVENT
END:VCALENDAR