BEGIN:VCALENDAR
VERSION:2.0
PRODID:-//Bleu Cohésion - ECPv4.8.1//NONSGML v1.0//EN
CALSCALE:GREGORIAN
METHOD:PUBLISH
X-WR-CALNAME:Bleu Cohésion
X-ORIGINAL-URL:http://bleu-cohesion.fr
X-WR-CALDESC:Events for Bleu Cohésion
BEGIN:VEVENT
DTSTART;VALUE=DATE:20180929
DTEND;VALUE=DATE:20180930
DTSTAMP:20260420T124742
CREATED:20180717T225738Z
LAST-MODIFIED:20180717T225738Z
UID:3667-1538168400-1538254799@bleu-cohesion.fr
SUMMARY:Saut sur le Mont St Michel
DESCRIPTION:
URL:http://bleu-cohesion.fr/event/saut-sur-le-mont-st-michel/
END:VEVENT
END:VCALENDAR