BEGIN:VCALENDAR
VERSION:2.0
PRODID:-//Bleu Cohésion - ECPv4.8.1//NONSGML v1.0//EN
CALSCALE:GREGORIAN
METHOD:PUBLISH
X-WR-CALNAME:Bleu Cohésion
X-ORIGINAL-URL:http://bleu-cohesion.fr
X-WR-CALDESC:Events for Bleu Cohésion
BEGIN:VEVENT
DTSTART;TZID=Europe/Paris:20180915T100000
DTEND;TZID=Europe/Paris:20180915T130000
DTSTAMP:20260422T203536
CREATED:20180722T160331Z
LAST-MODIFIED:20180826T012655Z
UID:3680-1536994800-1537005600@bleu-cohesion.fr
SUMMARY:Soufflerie / Windtunnel for All
DESCRIPTION:
URL:http://bleu-cohesion.fr/event/soufflerie-windtunnel-for-all-2/
END:VEVENT
END:VCALENDAR