BEGIN:VCALENDAR
VERSION:2.0
PRODID:-//Bleu Cohésion - ECPv4.8.1//NONSGML v1.0//EN
CALSCALE:GREGORIAN
METHOD:PUBLISH
X-WR-CALNAME:Bleu Cohésion
X-ORIGINAL-URL:http://bleu-cohesion.fr
X-WR-CALDESC:Events for Bleu Cohésion
BEGIN:VEVENT
DTSTART;TZID=Europe/Paris:20180930T110000
DTEND;TZID=Europe/Paris:20180930T133000
DTSTAMP:20260422T112821
CREATED:20180722T160416Z
LAST-MODIFIED:20180826T012811Z
UID:3682-1538294400-1538303400@bleu-cohesion.fr
SUMMARY:Soufflerie / Windtunnel for All
DESCRIPTION:
URL:http://bleu-cohesion.fr/event/soufflerie-windtunnel-for-all-3/
END:VEVENT
END:VCALENDAR