BEGIN:VCALENDAR
VERSION:2.0
PRODID:-//Bleu Cohésion - ECPv4.8.1//NONSGML v1.0//EN
CALSCALE:GREGORIAN
METHOD:PUBLISH
X-WR-CALNAME:Bleu Cohésion
X-ORIGINAL-URL:http://bleu-cohesion.fr
X-WR-CALDESC:Events for Bleu Cohésion
BEGIN:VEVENT
DTSTART;TZID=Europe/Paris:20180609T120000
DTEND;TZID=Europe/Paris:20180609T120000
DTSTAMP:20260425T022821
CREATED:20180606T014930Z
LAST-MODIFIED:20180612T225349Z
UID:3309-1528534800-1528534800@bleu-cohesion.fr
SUMMARY:Soufflerie / Wintunnel for All
DESCRIPTION: \n
URL:http://bleu-cohesion.fr/event/soufflerie/
LOCATION:AEROKART\, 199-203 Route de Pontoise\, Argenteuil
END:VEVENT
END:VCALENDAR