BEGIN:VCALENDAR
VERSION:2.0
PRODID:-//Bleu Cohésion - ECPv4.8.1//NONSGML v1.0//EN
CALSCALE:GREGORIAN
METHOD:PUBLISH
X-WR-CALNAME:Bleu Cohésion
X-ORIGINAL-URL:http://bleu-cohesion.fr
X-WR-CALDESC:Events for Bleu Cohésion
BEGIN:VEVENT
DTSTART;VALUE=DATE:20180721
DTEND;VALUE=DATE:20180723
DTSTAMP:20260424T052049
CREATED:20180709T181333Z
LAST-MODIFIED:20180709T181333Z
UID:3589-1532120400-1532293199@bleu-cohesion.fr
SUMMARY:Tandem / Animation VR
DESCRIPTION:Parachutisme à Nevers \n
URL:http://bleu-cohesion.fr/event/tandem-animation-vr/
END:VEVENT
END:VCALENDAR