BEGIN:VCALENDAR
VERSION:2.0
PRODID:-//Bleu Cohésion - ECPv4.8.1//NONSGML v1.0//EN
CALSCALE:GREGORIAN
METHOD:PUBLISH
X-WR-CALNAME:Bleu Cohésion
X-ORIGINAL-URL:http://bleu-cohesion.fr
X-WR-CALDESC:Events for Bleu Cohésion
BEGIN:VEVENT
DTSTART;VALUE=DATE:20180901
DTEND;VALUE=DATE:20180903
DTSTAMP:20260423T083727
CREATED:20180717T223201Z
LAST-MODIFIED:20180717T223201Z
UID:3618-1535749200-1535921999@bleu-cohesion.fr
SUMMARY:Tandem / Skydive for All
DESCRIPTION:
URL:http://bleu-cohesion.fr/event/tandem-skydive-for-all-2/
END:VEVENT
END:VCALENDAR