BEGIN:VCALENDAR
VERSION:2.0
PRODID:-//Bleu Cohésion - ECPv4.8.1//NONSGML v1.0//EN
CALSCALE:GREGORIAN
METHOD:PUBLISH
X-WR-CALNAME:Bleu Cohésion
X-ORIGINAL-URL:http://bleu-cohesion.fr
X-WR-CALDESC:Events for Bleu Cohésion
BEGIN:VEVENT
DTSTART;VALUE=DATE:20180825
DTEND;VALUE=DATE:20180827
DTSTAMP:20260423T111839
CREATED:20180717T223059Z
LAST-MODIFIED:20180717T223059Z
UID:3615-1535144400-1535317199@bleu-cohesion.fr
SUMMARY:Tandem / Skydive for All / Formation B2
DESCRIPTION:
URL:http://bleu-cohesion.fr/event/tandem-skydive-for-all-formation-b2-2/
END:VEVENT
END:VCALENDAR