BEGIN:VCALENDAR
VERSION:2.0
PRODID:-//Bleu Cohésion - ECPv4.8.1//NONSGML v1.0//EN
CALSCALE:GREGORIAN
METHOD:PUBLISH
X-WR-CALNAME:Bleu Cohésion
X-ORIGINAL-URL:http://bleu-cohesion.fr
X-WR-CALDESC:Events for Bleu Cohésion
BEGIN:VEVENT
DTSTART;VALUE=DATE:20230826
DTEND;VALUE=DATE:20230827
DTSTAMP:20260422T210817
CREATED:20230805T185853Z
LAST-MODIFIED:20230805T185853Z
UID:5673-1692997200-1693083599@bleu-cohesion.fr
SUMMARY:TANDEM
DESCRIPTION:
URL:http://bleu-cohesion.fr/event/tandem/
END:VEVENT
END:VCALENDAR