BEGIN:VCALENDAR
VERSION:2.0
PRODID:-//Bleu Cohésion - ECPv4.8.1//NONSGML v1.0//EN
CALSCALE:GREGORIAN
METHOD:PUBLISH
X-WR-CALNAME:Bleu Cohésion
X-ORIGINAL-URL:http://bleu-cohesion.fr
X-WR-CALDESC:Events for Bleu Cohésion
BEGIN:VEVENT
DTSTART;TZID=Europe/Paris:20180905T180000
DTEND;TZID=Europe/Paris:20180905T200000
DTSTAMP:20260423T043749
CREATED:20180830T001624Z
LAST-MODIFIED:20180830T001648Z
UID:3830-1536159600-1536166800@bleu-cohesion.fr
SUMMARY:Tir
DESCRIPTION:
URL:http://bleu-cohesion.fr/event/tir-3/
END:VEVENT
END:VCALENDAR