BEGIN:VCALENDAR
VERSION:2.0
PRODID:-//Bleu Cohésion - ECPv4.8.1//NONSGML v1.0//EN
CALSCALE:GREGORIAN
METHOD:PUBLISH
X-WR-CALNAME:Bleu Cohésion
X-ORIGINAL-URL:http://bleu-cohesion.fr
X-WR-CALDESC:Events for Bleu Cohésion
BEGIN:VEVENT
DTSTART;TZID=Europe/Paris:20230805T160000
DTEND;TZID=Europe/Paris:20230805T170000
DTSTAMP:20260423T033236
CREATED:20230805T185737Z
LAST-MODIFIED:20230805T185737Z
UID:5669-1691240400-1691244000@bleu-cohesion.fr
SUMMARY:Tir 300m
DESCRIPTION:
URL:http://bleu-cohesion.fr/event/tir-300m-10/
END:VEVENT
END:VCALENDAR