BEGIN:VCALENDAR
VERSION:2.0
PRODID:-//Bleu Cohésion - ECPv4.8.1//NONSGML v1.0//EN
CALSCALE:GREGORIAN
METHOD:PUBLISH
X-WR-CALNAME:Bleu Cohésion
X-ORIGINAL-URL:http://bleu-cohesion.fr
X-WR-CALDESC:Events for Bleu Cohésion
BEGIN:VEVENT
DTSTART;VALUE=DATE:20180721
DTEND;VALUE=DATE:20180722
DTSTAMP:20260424T040046
CREATED:20180720T235143Z
LAST-MODIFIED:20180720T235143Z
UID:3677-1532120400-1532206799@bleu-cohesion.fr
SUMMARY:Tir 300m
DESCRIPTION:
URL:http://bleu-cohesion.fr/event/tir-300m-7/
END:VEVENT
END:VCALENDAR