BEGIN:VCALENDAR
VERSION:2.0
PRODID:-//Bleu Cohésion - ECPv4.8.1//NONSGML v1.0//EN
CALSCALE:GREGORIAN
METHOD:PUBLISH
X-WR-CALNAME:Bleu Cohésion
X-ORIGINAL-URL:http://bleu-cohesion.fr
X-WR-CALDESC:Events for Bleu Cohésion
BEGIN:VEVENT
DTSTART;TZID=Europe/Paris:20230826T160000
DTEND;TZID=Europe/Paris:20230826T170000
DTSTAMP:20260422T194734
CREATED:20230826T211622Z
LAST-MODIFIED:20230826T211622Z
UID:5680-1693054800-1693058400@bleu-cohesion.fr
SUMMARY:Tri 300m
DESCRIPTION:
URL:http://bleu-cohesion.fr/event/tri-300m/
END:VEVENT
END:VCALENDAR