BEGIN:VCALENDAR
VERSION:2.0
PRODID:-//Bleu Cohésion - ECPv4.8.1//NONSGML v1.0//EN
CALSCALE:GREGORIAN
METHOD:PUBLISH
X-WR-CALNAME:Bleu Cohésion
X-ORIGINAL-URL:http://bleu-cohesion.fr
X-WR-CALDESC:Events for Bleu Cohésion
BEGIN:VEVENT
DTSTART;TZID=Europe/Paris:20180619T193000
DTEND;TZID=Europe/Paris:20180619T213000
DTSTAMP:20260426T011401
CREATED:20180612T224520Z
LAST-MODIFIED:20180612T225134Z
UID:3431-1529425800-1529433000@bleu-cohesion.fr
SUMMARY:Self Défense
DESCRIPTION:
URL:http://bleu-cohesion.fr/event/self-defense/
END:VEVENT
BEGIN:VEVENT
DTSTART;TZID=Europe/Paris:20180620T173000
DTEND;TZID=Europe/Paris:20180620T200000
DTSTAMP:20260426T011401
CREATED:20180612T224800Z
LAST-MODIFIED:20180612T224800Z
UID:3433-1529505000-1529514000@bleu-cohesion.fr
SUMMARY:Tir
DESCRIPTION:
URL:http://bleu-cohesion.fr/event/tir/
LOCATION:CTPPN
END:VEVENT
END:VCALENDAR