BEGIN:VCALENDAR
VERSION:2.0
PRODID:-//Bleu Cohésion - ECPv4.8.1//NONSGML v1.0//EN
CALSCALE:GREGORIAN
METHOD:PUBLISH
X-WR-CALNAME:Bleu Cohésion
X-ORIGINAL-URL:http://bleu-cohesion.fr
X-WR-CALDESC:Events for Bleu Cohésion
BEGIN:VEVENT
DTSTART;TZID=Europe/Paris:20180626T193000
DTEND;TZID=Europe/Paris:20180626T213000
DTSTAMP:20260425T221941
CREATED:20180612T225203Z
LAST-MODIFIED:20180612T225203Z
UID:3440-1530030600-1530037800@bleu-cohesion.fr
SUMMARY:Self Défense
DESCRIPTION:
URL:http://bleu-cohesion.fr/event/self-defense-2/
END:VEVENT
BEGIN:VEVENT
DTSTART;TZID=Europe/Paris:20180627T173000
DTEND;TZID=Europe/Paris:20180627T200000
DTSTAMP:20260425T221941
CREATED:20180612T224937Z
LAST-MODIFIED:20180612T224937Z
UID:3438-1530109800-1530118800@bleu-cohesion.fr
SUMMARY:Tir
DESCRIPTION:
URL:http://bleu-cohesion.fr/event/tir-2/
END:VEVENT
END:VCALENDAR