BEGIN:VCALENDAR
VERSION:2.0
PRODID:-//Bleu Cohésion - ECPv4.8.1//NONSGML v1.0//EN
CALSCALE:GREGORIAN
METHOD:PUBLISH
X-WR-CALNAME:Bleu Cohésion
X-ORIGINAL-URL:http://bleu-cohesion.fr
X-WR-CALDESC:Events for Bleu Cohésion
BEGIN:VEVENT
DTSTART;VALUE=DATE:20180707
DTEND;VALUE=DATE:20180709
DTSTAMP:20260425T164705
CREATED:20180612T225325Z
LAST-MODIFIED:20180612T225535Z
UID:3442-1530910800-1531083599@bleu-cohesion.fr
SUMMARY:Soufflerie / Wintunnel for All
DESCRIPTION:
URL:http://bleu-cohesion.fr/event/soufflerie-wintunnel-for-all/
LOCATION:AEROKART\, 199-203 Route de Pontoise\, Argenteuil
END:VEVENT
END:VCALENDAR