BEGIN:VCALENDAR
VERSION:2.0
PRODID:-//Bleu Cohésion - ECPv4.8.1//NONSGML v1.0//EN
CALSCALE:GREGORIAN
METHOD:PUBLISH
X-WR-CALNAME:Bleu Cohésion
X-ORIGINAL-URL:http://bleu-cohesion.fr
X-WR-CALDESC:Events for Bleu Cohésion
BEGIN:VEVENT
DTSTART;TZID=Europe/Paris:20180712T180000
DTEND;TZID=Europe/Paris:20180712T230000
DTSTAMP:20260425T160042
CREATED:20180709T175808Z
LAST-MODIFIED:20180709T175808Z
UID:3578-1531407600-1531425600@bleu-cohesion.fr
SUMMARY:Escalade (salle de bloc)
DESCRIPTION:Séance d’escalade indoor à la salle de bloc (mur de 4m sans assurage) à Vertical Art (Montigny le Bretonneux) \n
URL:http://bleu-cohesion.fr/event/escalade-salle-de-bloc-2/
END:VEVENT
END:VCALENDAR