BEGIN:VCALENDAR
VERSION:2.0
PRODID:-//Bleu Cohésion - ECPv4.8.1//NONSGML v1.0//EN
CALSCALE:GREGORIAN
METHOD:PUBLISH
X-WR-CALNAME:Bleu Cohésion
X-ORIGINAL-URL:http://bleu-cohesion.fr
X-WR-CALDESC:Events for Bleu Cohésion
BEGIN:VEVENT
DTSTART;VALUE=DATE:20180714
DTEND;VALUE=DATE:20180718
DTSTAMP:20260425T141938
CREATED:20180716T014145Z
LAST-MODIFIED:20180716T014145Z
UID:3607-1531515600-1531861199@bleu-cohesion.fr
SUMMARY:Plongée au lac de Pannecière
DESCRIPTION:– 14 et 15 juillet: formation tous niveaux\, exploration\, formation GP et tutorat MF1\, secourisme\n– 16 juillet: formation tous niveaux\, formation GP\, stage initial initiateur\, explo\n– 17 et 18 juillet: formation GP et explo\n
URL:http://bleu-cohesion.fr/event/plongee-au-lac-de-panneciere/
END:VEVENT
END:VCALENDAR