BEGIN:VCALENDAR
VERSION:2.0
PRODID:-//Bleu Cohésion - ECPv4.8.1//NONSGML v1.0//EN
CALSCALE:GREGORIAN
METHOD:PUBLISH
X-WR-CALNAME:Bleu Cohésion
X-ORIGINAL-URL:http://bleu-cohesion.fr
X-WR-CALDESC:Events for Bleu Cohésion
BEGIN:VEVENT
DTSTART;TZID=Europe/Paris:20181002T200000
DTEND;TZID=Europe/Paris:20181002T220000
DTSTAMP:20260424T042033
CREATED:20180717T225031Z
LAST-MODIFIED:20180717T225031Z
UID:3644-1538499600-1538506800@bleu-cohesion.fr
SUMMARY:Self Defense
DESCRIPTION:
URL:http://bleu-cohesion.fr/event/self-defense-7/
END:VEVENT
BEGIN:VEVENT
DTSTART;TZID=Europe/Paris:20181003T180000
DTEND;TZID=Europe/Paris:20181003T200000
DTSTAMP:20260424T042033
CREATED:20180830T001933Z
LAST-MODIFIED:20180830T001933Z
UID:3838-1538578800-1538586000@bleu-cohesion.fr
SUMMARY:Tir
DESCRIPTION:
URL:http://bleu-cohesion.fr/event/tir-7/
END:VEVENT
END:VCALENDAR