BEGIN:VCALENDAR
VERSION:2.0
PRODID:-//Bleu Cohésion - ECPv4.8.1//NONSGML v1.0//EN
CALSCALE:GREGORIAN
METHOD:PUBLISH
X-WR-CALNAME:Bleu Cohésion
X-ORIGINAL-URL:https://bleu-cohesion.fr
X-WR-CALDESC:Events for Bleu Cohésion
BEGIN:VEVENT
DTSTART;VALUE=DATE:20230610
DTEND;VALUE=DATE:20230612
DTSTAMP:20260423T082250
CREATED:20230603T205040Z
LAST-MODIFIED:20230603T205040Z
UID:5557-1686344400-1686517199@bleu-cohesion.fr
SUMMARY:AKDémie Espoir
DESCRIPTION:
URL:https://bleu-cohesion.fr/event/akdemie-espoir-9/
END:VEVENT
END:VCALENDAR