BEGIN:VCALENDAR
VERSION:2.0
PRODID:-//Bleu Cohésion - ECPv4.8.1//NONSGML v1.0//EN
CALSCALE:GREGORIAN
METHOD:PUBLISH
X-WR-CALNAME:Bleu Cohésion
X-ORIGINAL-URL:https://bleu-cohesion.fr
X-WR-CALDESC:Events for Bleu Cohésion
BEGIN:VEVENT
DTSTART;VALUE=DATE:20250517
DTEND;VALUE=DATE:20250519
DTSTAMP:20260420T113652
CREATED:20250121T005240Z
LAST-MODIFIED:20250121T005240Z
UID:5999-1747429200-1747601999@bleu-cohesion.fr
SUMMARY:AKDemie Espoirs
DESCRIPTION:
URL:https://bleu-cohesion.fr/event/akdemie-espoirs-12/
END:VEVENT
END:VCALENDAR