BEGIN:VCALENDAR
VERSION:2.0
PRODID:-//Bleu Cohésion - ECPv4.8.1//NONSGML v1.0//EN
CALSCALE:GREGORIAN
METHOD:PUBLISH
X-WR-CALNAME:Bleu Cohésion
X-ORIGINAL-URL:https://bleu-cohesion.fr
X-WR-CALDESC:Events for Bleu Cohésion
BEGIN:VEVENT
DTSTART;VALUE=DATE:20240907
DTEND;VALUE=DATE:20240908
DTSTAMP:20260422T112153
CREATED:20240623T193753Z
LAST-MODIFIED:20240623T193753Z
UID:5886-1725656400-1725742799@bleu-cohesion.fr
SUMMARY:Forum des associations à Chaville
DESCRIPTION:
URL:https://bleu-cohesion.fr/event/forum-des-associations-a-chaville-3/
END:VEVENT
END:VCALENDAR