BEGIN:VCALENDAR
VERSION:2.0
PRODID:-//Bleu Cohésion - ECPv4.8.1//NONSGML v1.0//EN
CALSCALE:GREGORIAN
METHOD:PUBLISH
X-WR-CALNAME:Bleu Cohésion
X-ORIGINAL-URL:https://bleu-cohesion.fr
X-WR-CALDESC:Events for Bleu Cohésion
BEGIN:VEVENT
DTSTART;VALUE=DATE:20230616
DTEND;VALUE=DATE:20230619
DTSTAMP:20260423T054713
CREATED:20230226T231205Z
LAST-MODIFIED:20230226T231205Z
UID:5503-1686862800-1687121999@bleu-cohesion.fr
SUMMARY:Plongée au lac de Pannecière
DESCRIPTION:
URL:https://bleu-cohesion.fr/event/plongee-au-lac-de-panneciere-24/
END:VEVENT
END:VCALENDAR