BEGIN:VCALENDAR
VERSION:2.0
PRODID:-//Bleu Cohésion - ECPv4.8.1//NONSGML v1.0//EN
CALSCALE:GREGORIAN
METHOD:PUBLISH
X-WR-CALNAME:Bleu Cohésion
X-ORIGINAL-URL:https://bleu-cohesion.fr
X-WR-CALDESC:Events for Bleu Cohésion
BEGIN:VEVENT
DTSTART;TZID=Europe/Paris:20230606T200000
DTEND;TZID=Europe/Paris:20230606T220000
DTSTAMP:20260423T094157
CREATED:20230605T022334Z
LAST-MODIFIED:20230605T022334Z
UID:5581-1686070800-1686078000@bleu-cohesion.fr
SUMMARY:Self Défense
DESCRIPTION:
URL:https://bleu-cohesion.fr/event/self-defense-116/
END:VEVENT
END:VCALENDAR