BEGIN:VCALENDAR
VERSION:2.0
PRODID:-//Bleu Cohésion - ECPv4.8.1//NONSGML v1.0//EN
CALSCALE:GREGORIAN
METHOD:PUBLISH
X-WR-CALNAME:Bleu Cohésion
X-ORIGINAL-URL:https://bleu-cohesion.fr
X-WR-CALDESC:Events for Bleu Cohésion
BEGIN:VEVENT
DTSTART;TZID=Europe/Paris:20230605T180000
DTEND;TZID=Europe/Paris:20230605T200000
DTSTAMP:20260423T105531
CREATED:20230603T205120Z
LAST-MODIFIED:20230603T205120Z
UID:5559-1685977200-1685984400@bleu-cohesion.fr
SUMMARY:Tir
DESCRIPTION:
URL:https://bleu-cohesion.fr/event/tir-122/
END:VEVENT
END:VCALENDAR