BEGIN:VCALENDAR
VERSION:2.0
PRODID:-//Bleu Cohésion - ECPv4.8.1//NONSGML v1.0//EN
CALSCALE:GREGORIAN
METHOD:PUBLISH
X-WR-CALNAME:Bleu Cohésion
X-ORIGINAL-URL:https://bleu-cohesion.fr
X-WR-CALDESC:Events for Bleu Cohésion
BEGIN:VEVENT
DTSTART;TZID=Europe/Paris:20240916T190000
DTEND;TZID=Europe/Paris:20240916T200000
DTSTAMP:20260424T170916
CREATED:20240625T224324Z
LAST-MODIFIED:20240625T224347Z
UID:5888-1726502400-1726506000@bleu-cohesion.fr
SUMMARY:Tir laser
DESCRIPTION:
URL:https://bleu-cohesion.fr/event/tir-laser-37/
END:VEVENT
END:VCALENDAR