BEGIN:VCALENDAR
VERSION:2.0
PRODID:-//Bleu Cohésion - ECPv4.8.1//NONSGML v1.0//EN
CALSCALE:GREGORIAN
METHOD:PUBLISH
X-WR-CALNAME:Bleu Cohésion
X-ORIGINAL-URL:https://bleu-cohesion.fr
X-WR-CALDESC:Events for Bleu Cohésion
BEGIN:VEVENT
DTSTART;TZID=Europe/Paris:20241007T190000
DTEND;TZID=Europe/Paris:20241007T200000
DTSTAMP:20260424T091917
CREATED:20240902T232559Z
LAST-MODIFIED:20240911T181747Z
UID:5926-1728316800-1728320400@bleu-cohesion.fr
SUMMARY:Tir laser
DESCRIPTION:
URL:https://bleu-cohesion.fr/event/tir-laser-40/
END:VEVENT
END:VCALENDAR